BEGIN:VCALENDAR
VERSION:2.0
PRODID:-//Montessori Academy of Lancaster - ECPv6.15.8//NONSGML v1.0//EN
CALSCALE:GREGORIAN
METHOD:PUBLISH
X-WR-CALNAME:Montessori Academy of Lancaster
X-ORIGINAL-URL:https://montlanc.com
X-WR-CALDESC:Events for Montessori Academy of Lancaster
REFRESH-INTERVAL;VALUE=DURATION:PT1H
X-Robots-Tag:noindex
X-PUBLISHED-TTL:PT1H
BEGIN:VTIMEZONE
TZID:UTC
BEGIN:STANDARD
TZOFFSETFROM:+0000
TZOFFSETTO:+0000
TZNAME:UTC
DTSTART:20250101T000000
END:STANDARD
END:VTIMEZONE
BEGIN:VEVENT
DTSTART;TZID=UTC:20260425T140000
DTEND;TZID=UTC:20260425T150000
DTSTAMP:20260425T015545
CREATED:20260423T161905Z
LAST-MODIFIED:20260423T161905Z
UID:1449-1777125600-1777129200@montlanc.com
SUMMARY:Drama Performance: Worst Fairytale Ever
DESCRIPTION:
URL:https://montlanc.com/event/drama-performance-worst-fairytale-ever/
END:VEVENT
END:VCALENDAR