BEGIN:VCALENDAR
VERSION:2.0
PRODID:-//Montessori Academy of Lancaster - ECPv6.15.8//NONSGML v1.0//EN
CALSCALE:GREGORIAN
METHOD:PUBLISH
X-ORIGINAL-URL:https://montlanc.com
X-WR-CALDESC:Events for Montessori Academy of Lancaster
REFRESH-INTERVAL;VALUE=DURATION:PT1H
X-Robots-Tag:noindex
X-PUBLISHED-TTL:PT1H
BEGIN:VTIMEZONE
TZID:UTC
BEGIN:STANDARD
TZOFFSETFROM:+0000
TZOFFSETTO:+0000
TZNAME:UTC
DTSTART:20240101T000000
END:STANDARD
END:VTIMEZONE
BEGIN:VEVENT
DTSTART;TZID=UTC:20251107T090000
DTEND;TZID=UTC:20251107T130000
DTSTAMP:20260422T095918
CREATED:20250710T173741Z
LAST-MODIFIED:20250909T170453Z
UID:1027-1762506000-1762520400@montlanc.com
SUMMARY:Parent-Teacher Conferences - NO SCHOOL
DESCRIPTION:A link will be available through the Parent App for you to schedule an individual conference time with your child(ren)’s teachers. There is NO SCHOOL for students.
URL:https://montlanc.com/event/parent-teacher-conferences-2/
CATEGORIES:Conferences,No School
END:VEVENT
BEGIN:VEVENT
DTSTART;TZID=UTC:20251106T130000
DTEND;TZID=UTC:20251106T190000
DTSTAMP:20260422T095918
CREATED:20250710T173656Z
LAST-MODIFIED:20250909T170435Z
UID:1025-1762434000-1762455600@montlanc.com
SUMMARY:Parent-Teacher Conferences - Early Dismissal
DESCRIPTION:A link will be available through the Parent App for you to schedule an individual conference time with your child(ren)’s teachers. Students will have an early dismissal. \nPlease check the Parent App for the early dismissal schedule.
URL:https://montlanc.com/event/parent-teacher-conferences/
CATEGORIES:Conferences
END:VEVENT
END:VCALENDAR